BEGIN:VCALENDAR
VERSION:2.0
PRODID:-//AGUACTIVA - ECPv6.5.1.4//NONSGML v1.0//EN
CALSCALE:GREGORIAN
METHOD:PUBLISH
X-WR-CALNAME:AGUACTIVA
X-ORIGINAL-URL:https://aguactiva.es
X-WR-CALDESC:Eventos para AGUACTIVA
REFRESH-INTERVAL;VALUE=DURATION:PT1H
X-Robots-Tag:noindex
X-PUBLISHED-TTL:PT1H
BEGIN:VTIMEZONE
TZID:Europe/Madrid
BEGIN:DAYLIGHT
TZOFFSETFROM:+0100
TZOFFSETTO:+0200
TZNAME:CEST
DTSTART:20220327T010000
END:DAYLIGHT
BEGIN:STANDARD
TZOFFSETFROM:+0200
TZOFFSETTO:+0100
TZNAME:CET
DTSTART:20221030T010000
END:STANDARD
BEGIN:DAYLIGHT
TZOFFSETFROM:+0100
TZOFFSETTO:+0200
TZNAME:CEST
DTSTART:20230326T010000
END:DAYLIGHT
BEGIN:STANDARD
TZOFFSETFROM:+0200
TZOFFSETTO:+0100
TZNAME:CET
DTSTART:20231029T010000
END:STANDARD
BEGIN:DAYLIGHT
TZOFFSETFROM:+0100
TZOFFSETTO:+0200
TZNAME:CEST
DTSTART:20240331T010000
END:DAYLIGHT
BEGIN:STANDARD
TZOFFSETFROM:+0200
TZOFFSETTO:+0100
TZNAME:CET
DTSTART:20241027T010000
END:STANDARD
BEGIN:DAYLIGHT
TZOFFSETFROM:+0100
TZOFFSETTO:+0200
TZNAME:CEST
DTSTART:20250330T010000
END:DAYLIGHT
BEGIN:STANDARD
TZOFFSETFROM:+0200
TZOFFSETTO:+0100
TZNAME:CET
DTSTART:20251026T010000
END:STANDARD
END:VTIMEZONE
BEGIN:VEVENT
DTSTART;TZID=Europe/Madrid:20250625T160000
DTEND;TZID=Europe/Madrid:20250625T170000
DTSTAMP:20260420T020040
CREATED:20250625T062806Z
LAST-MODIFIED:20250625T062916Z
UID:10024399-1750867200-1750870800@aguactiva.es
SUMMARY:Edificio Balleu
DESCRIPTION:Preinscripción para Edificio Balleu \nCurso intensivo en clases de 30 min de lunes a viernes. Comienzo a las 16:00h \n 
URL:https://aguactiva.es/evento/edificio-balleu/
CATEGORIES:Urbanizaciones
ATTACH;FMTTYPE=image/jpeg:https://aguactiva.es/wp-content/uploads/2018/10/natacion-verano.jpg
END:VEVENT
BEGIN:VEVENT
DTSTART;TZID=Europe/Madrid:20240403T182000
DTEND;TZID=Europe/Madrid:20240403T185000
DTSTAMP:20260420T020040
CREATED:20210502T152435Z
LAST-MODIFIED:20210630T055315Z
UID:10014387-1712168400-1712170200@aguactiva.es
SUMMARY:Clase 18:20 horas Cursillos intensivos Junio y Julio Liceo Europa
DESCRIPTION:Preinscripción para Cursillos intensivo de natación en clases de 30 min de lunes a viernes. \nNatación para niños en la Piscina Ángel Santamaría C.N. Europa (junto al colegio Liceo Europa). \nDe lunes a viernes de 18.20h a 18.55h. \n 
URL:https://aguactiva.es/evento/clase-1820-horas-cursillos-intensivos/2024-04-03/
CATEGORIES:Natación niños
END:VEVENT
BEGIN:VEVENT
DTSTART;TZID=Europe/Madrid:20240403T174500
DTEND;TZID=Europe/Madrid:20240403T181500
DTSTAMP:20260420T020040
CREATED:20210502T152359Z
LAST-MODIFIED:20210630T055408Z
UID:10024283-1712166300-1712168100@aguactiva.es
SUMMARY:Clase 17:45 horas Cursillos intensivos Junio y Julio Liceo Europa
DESCRIPTION:Preinscripción para Cursillos intensivo de natación en clases de 30 min de lunes a viernes. \nNatación para niños en la Piscina Ángel Santamaría C.N. Europa (junto al colegio Liceo Europa). \nDe lunes a viernes de 17.45h a 18.15h.
URL:https://aguactiva.es/evento/clase-1745-horas-cursillos-intensivos-junio-y-julio-liceo-europa/2024-04-03/
CATEGORIES:Natación niños
END:VEVENT
BEGIN:VEVENT
DTSTART;TZID=Europe/Madrid:20240403T171000
DTEND;TZID=Europe/Madrid:20240403T174000
DTSTAMP:20260420T020040
CREATED:20210502T152323Z
LAST-MODIFIED:20210615T055648Z
UID:10021929-1712164200-1712166000@aguactiva.es
SUMMARY:Clase 17:10 horas Cursillos intensivos Junio y Julio Liceo Europa
DESCRIPTION:Preinscripción para Cursillos intensivo de natación en clases de 30 min de lunes a viernes. \nNatación para niños en la Piscina Ángel Santamaría C.N. Europa (junto al colegio Liceo Europa). \nDe lunes a viernes de 17.10h a 17.40h.
URL:https://aguactiva.es/evento/clase-1710-horas-cursillos-intensivos-junio-y-julio-liceo-europa/2024-04-03/
CATEGORIES:Natación niños
END:VEVENT
BEGIN:VEVENT
DTSTART;TZID=Europe/Madrid:20240330T190000
DTEND;TZID=Europe/Madrid:20240406T193000
DTSTAMP:20260420T020040
CREATED:20210916T095757Z
LAST-MODIFIED:20210920T111035Z
UID:10023103-1711825200-1712431800@aguactiva.es
SUMMARY:Natación escolar viernes 19:00h
DESCRIPTION:Natación escolar en la Piscina Ángel Santamaría – C.N. EUROPA. \nTodos los viernes del calendario de 28 sesiones de octubre a abril\, a las 19.00h. 
URL:https://aguactiva.es/evento/natacion-escolar-viernes-1900h/2024-03-30/
CATEGORIES:Natación escolar,Natación escolar Maria de Huerva
END:VEVENT
BEGIN:VEVENT
DTSTART;TZID=Europe/Madrid:20240330T163500
DTEND;TZID=Europe/Madrid:20240406T170500
DTSTAMP:20260420T020040
CREATED:20210913T135341Z
LAST-MODIFIED:20210918T135040Z
UID:10015353-1711816500-1712423100@aguactiva.es
SUMMARY:Natación escolar viernes 16:35h
DESCRIPTION:Natación escolar en la Piscina Ángel Santamaría – C.N. EUROPA. \nTodos los viernes del calendario de 28 sesiones de octubre a abril\, a las 16.35h. 
URL:https://aguactiva.es/evento/natacion-escolar-viernes-1635h/2024-03-30/
CATEGORIES:Natación escolar,Natación escolar Maria de Huerva
END:VEVENT
BEGIN:VEVENT
DTSTART;TZID=Europe/Madrid:20240330T163500
DTEND;TZID=Europe/Madrid:20240406T170500
DTSTAMP:20260420T020040
CREATED:20210913T135204Z
LAST-MODIFIED:20211005T054910Z
UID:10015220-1711816500-1712423100@aguactiva.es
SUMMARY:Natación escolar jueves 16:35h
DESCRIPTION:Natación escolar en la Piscina Ángel Santamaría – C.N. EUROPA. \nTodos los jueves del calendario de 28 sesiones de octubre a abril\, a las 16.35h. 
URL:https://aguactiva.es/evento/natacion-escolar-jueves-1635h/2024-03-30/
CATEGORIES:Natación escolar,Natación escolar Maria de Huerva
END:VEVENT
BEGIN:VEVENT
DTSTART;TZID=Europe/Madrid:20240330T123000
DTEND;TZID=Europe/Madrid:20241116T130000
DTSTAMP:20260420T020040
CREATED:20190730T083208Z
LAST-MODIFIED:20190913T055536Z
UID:10016711-1711801800-1731762000@aguactiva.es
SUMMARY:Natación escolar CEIP SAN JORGE - VALDESPARTERA 2 sábado 12:30h
DESCRIPTION:Natación escolar en la Piscina Ángel Santamaría – C.N. EUROPA. \nTodos los sábados de octubre a mayo\, a las 12.30h. CALENDARIO LABORAL.
URL:https://aguactiva.es/evento/natacion-escolar-ceip-san-jorge-valdespartera-2-sabado-1230h/2024-03-30/
CATEGORIES:Natación escolar CEIP SAN JORGE VALDESPARTERA 2
ATTACH;FMTTYPE=image/jpeg:https://aguactiva.es/wp-content/uploads/2018/10/natacion-escolar-liceo-europa.jpg
END:VEVENT
BEGIN:VEVENT
DTSTART;TZID=Europe/Madrid:20240330T113000
DTEND;TZID=Europe/Madrid:20250322T120000
DTSTAMP:20260420T020040
CREATED:20210918T140219Z
LAST-MODIFIED:20240828T150029Z
UID:10023236-1711798200-1742644800@aguactiva.es
SUMMARY:Clases sábado 11:30h natación bebés Piscina Ángel Santamaría C.N.Europa
DESCRIPTION:Natación para bebés en la Piscina Ángel Santamaría C.N. Europa (junto al colegio Liceo Europa). \nTodos los sábados\, de 11.30h a 12.00h.
URL:https://aguactiva.es/evento/clases-sabado-1130h-natacion-bebes-piscina-angel-santamaria-c-n-europa/2024-03-30/
CATEGORIES:Natación bebés
END:VEVENT
BEGIN:VEVENT
DTSTART;TZID=Europe/Madrid:20240330T113000
DTEND;TZID=Europe/Madrid:20241228T120000
DTSTAMP:20260420T020040
CREATED:20190830T152947Z
LAST-MODIFIED:20190830T152947Z
UID:10017656-1711798200-1735387200@aguactiva.es
SUMMARY:Natación escolar CEIP VALDESPARTERA 3 sábado 11.30h
DESCRIPTION:Natación escolar en la Piscina Ángel Santamaría – C.N. EUROPA. \nTodos los sábados de octubre a mayo\, a las 11.30h. CALENDARIO LABORAL.
URL:https://aguactiva.es/evento/natacion-escolar-ceip-valdespartera-3-sabado-11-30h/2024-03-30/
CATEGORIES:Natación escolar CEIP VALDESPARTERA 3
END:VEVENT
BEGIN:VEVENT
DTSTART;TZID=Europe/Madrid:20240330T113000
DTEND;TZID=Europe/Madrid:20250419T120000
DTSTAMP:20260420T020040
CREATED:20190730T082937Z
LAST-MODIFIED:20190830T151812Z
UID:10016476-1711798200-1745064000@aguactiva.es
SUMMARY:Natación escolar CEIP SAN JORGE - VALDESPARTERA 2 sábado 11.30h
DESCRIPTION:Natación escolar en la Piscina Ángel Santamaría – C.N. EUROPA. \nTodos los sábados de octubre a mayo\, a las 11.30h. CALENDARIO LABORAL.
URL:https://aguactiva.es/evento/natacion-escolar-ceip-san-jorge-valdespartera-2-sabado-11-30h/2024-03-30/
CATEGORIES:Natación escolar CEIP SAN JORGE VALDESPARTERA 2
ATTACH;FMTTYPE=image/jpeg:https://aguactiva.es/wp-content/uploads/2018/10/natacion-escolar-liceo-europa.jpg
END:VEVENT
BEGIN:VEVENT
DTSTART;TZID=Europe/Madrid:20240330T110000
DTEND;TZID=Europe/Madrid:20241228T113000
DTSTAMP:20260420T020040
CREATED:20190830T153325Z
LAST-MODIFIED:20190830T153348Z
UID:10017897-1711796400-1735385400@aguactiva.es
SUMMARY:Natación escolar CEIP VALDESPARTERA 3 sábado 11h
DESCRIPTION:Natación escolar en la Piscina Ángel Santamaría – C.N. EUROPA. \nTodos los sábados de octubre a mayo\, a las 11.00h. CALENDARIO LABORAL.
URL:https://aguactiva.es/evento/natacion-escolar-ceip-valdespartera-3-sabado-11h/2024-03-30/
CATEGORIES:Natación escolar CEIP VALDESPARTERA 3
END:VEVENT
BEGIN:VEVENT
DTSTART;TZID=Europe/Madrid:20230907T190000
DTEND;TZID=Europe/Madrid:20230907T193000
DTSTAMP:20260420T020040
CREATED:20240614T112943Z
LAST-MODIFIED:20251121T192425Z
UID:10012402-1694113200-1694115000@aguactiva.es
SUMMARY:Natación MARIA DE HUERVA jueves 19.00h
DESCRIPTION:Natación escolar en la Piscina Ángel Santamaría – C.N. EUROPA. \nTodos los jueves a las 19.00h. CALENDARIO 28 SESIONES \nSolo para alumnos del municipio de María de Huerva. \n 
URL:https://aguactiva.es/evento/natacion-escolar-maria-de-huerva-jueves-19-00h-2/
CATEGORIES:Natación escolar Maria de Huerva,Natación Maria de Huerva
END:VEVENT
BEGIN:VEVENT
DTSTART;TZID=Europe/Madrid:20230522T190000
DTEND;TZID=Europe/Madrid:20230522T193000
DTSTAMP:20260420T020040
CREATED:20230329T150907Z
LAST-MODIFIED:20250406T085843Z
UID:10024302-1684782000-1684783800@aguactiva.es
SUMMARY:Cursillos intensivos natación CN Europa 19:00
DESCRIPTION:Cursillos intensivos de Natación para niños en la Piscina Ángel Santamaría C.N. Europa (junto al colegio Liceo Europa). \nTodos los días de 19.00h a 19.30h.
URL:https://aguactiva.es/evento/cursillos-intensivos-natacion-cn-europa-1900/
CATEGORIES:Natación verano
END:VEVENT
BEGIN:VEVENT
DTSTART;TZID=Europe/Madrid:20230522T183000
DTEND;TZID=Europe/Madrid:20230522T190000
DTSTAMP:20260420T020040
CREATED:20230329T152324Z
LAST-MODIFIED:20250406T084756Z
UID:10024303-1684780200-1684782000@aguactiva.es
SUMMARY:Cursillos intensivos natación CN Europa 18:30
DESCRIPTION:Cursillos intensivos de Natación para niños en la Piscina Ángel Santamaría C.N. Europa (junto al colegio Liceo Europa). \nTodos los días de 18.30h a 19.00h.
URL:https://aguactiva.es/evento/cursillos-intensivos-natacion-cn-europa-1830/
CATEGORIES:Natación verano
END:VEVENT
BEGIN:VEVENT
DTSTART;TZID=Europe/Madrid:20230522T180000
DTEND;TZID=Europe/Madrid:20230522T183000
DTSTAMP:20260420T020040
CREATED:20230329T153310Z
LAST-MODIFIED:20250406T083431Z
UID:10024304-1684778400-1684780200@aguactiva.es
SUMMARY:Cursillos intensivos natación CN Europa 18:00
DESCRIPTION:Cursillos intensivos de Natación para niños en la Piscina Ángel Santamaría C.N. Europa (junto al colegio Liceo Europa). \nTodos los días de 18.00h a 18.30h.
URL:https://aguactiva.es/evento/cursillos-intensivos-natacion-cn-europa-1800/
CATEGORIES:Natación verano
END:VEVENT
BEGIN:VEVENT
DTSTART;TZID=Europe/Madrid:20230522T173000
DTEND;TZID=Europe/Madrid:20230522T180000
DTSTAMP:20260420T020040
CREATED:20230329T153950Z
LAST-MODIFIED:20250406T080648Z
UID:10024305-1684776600-1684778400@aguactiva.es
SUMMARY:Cursillos intensivos natación CN Europa 17:30
DESCRIPTION:Cursillos intensivos de Natación para niños en la Piscina Ángel Santamaría C.N. Europa (junto al colegio Liceo Europa). \nTodos los días de 17.30h a 18.00h.
URL:https://aguactiva.es/evento/cursillos-intensivos-natacion-cn-europa-1730/
CATEGORIES:Natación verano
END:VEVENT
BEGIN:VEVENT
DTSTART;TZID=Europe/Madrid:20230522T170000
DTEND;TZID=Europe/Madrid:20230522T173000
DTSTAMP:20260420T020040
CREATED:20230329T154401Z
LAST-MODIFIED:20250406T075948Z
UID:10024306-1684774800-1684776600@aguactiva.es
SUMMARY:Cursillos intensivos natación CN Europa 17:00
DESCRIPTION:Cursillos intensivos de Natación para niños en la Piscina Ángel Santamaría C.N. Europa (junto al colegio Liceo Europa). \nTodos los días de 17.00h a 17.30h.
URL:https://aguactiva.es/evento/cursillos-intensivos-natacion-cn-europa-1700/
CATEGORIES:Natación verano
END:VEVENT
BEGIN:VEVENT
DTSTART;TZID=Europe/Madrid:20230522T163000
DTEND;TZID=Europe/Madrid:20230522T170000
DTSTAMP:20260420T020040
CREATED:20230329T155038Z
LAST-MODIFIED:20250406T075252Z
UID:10024307-1684773000-1684774800@aguactiva.es
SUMMARY:Cursillos intensivos natación CN Europa 16:30
DESCRIPTION:Cursillos intensivos de Natación para niños en la Piscina Ángel Santamaría C.N. Europa (junto al colegio Liceo Europa). \nTodos los días de 16.30h a 17.00h.
URL:https://aguactiva.es/evento/cursillos-intensivos-natacion-cn-europa-1630/
CATEGORIES:Natación verano
END:VEVENT
BEGIN:VEVENT
DTSTART;TZID=Europe/Madrid:20220921T190000
DTEND;TZID=Europe/Madrid:20220921T193000
DTSTAMP:20260420T020040
CREATED:20240614T113230Z
LAST-MODIFIED:20251121T201531Z
UID:10017905-1663786800-1663788600@aguactiva.es
SUMMARY:Natación MARIA DE HUERVA miércoles 19.00h
DESCRIPTION:Natación escolar en la Piscina Ángel Santamaría – C.N. EUROPA. \nTodos los miércoles a las 19.00h. CALENDARIO 28 SESIONES \nSolo para alumnos del municipio de María de Huerva. \n 
URL:https://aguactiva.es/evento/natacion-escolar-maria-de-huerva-miecoles-19-00h-2/
CATEGORIES:Natación escolar Maria de Huerva,Natación Maria de Huerva
END:VEVENT
BEGIN:VEVENT
DTSTART;TZID=Europe/Madrid:20220920T190000
DTEND;TZID=Europe/Madrid:20230620T193000
DTSTAMP:20260420T020040
CREATED:20240614T112810Z
LAST-MODIFIED:20251121T201640Z
UID:10024292-1663700400-1687289400@aguactiva.es
SUMMARY:Natación MARIA DE HUERVA martes 19.00h
DESCRIPTION:Natación escolar en la Piscina Ángel Santamaría – C.N. EUROPA. \nTodos los martes a las 19.00h. CALENDARIO 28 SESIONES \nSolo para alumnos del municipio de María de Huerva. \n 
URL:https://aguactiva.es/evento/natacion-maria-de-huerva-martes19-00h-2/
CATEGORIES:Natación escolar Maria de Huerva,Natación Maria de Huerva
END:VEVENT
BEGIN:VEVENT
DTSTART;TZID=Europe/Madrid:20220917T113000
DTEND;TZID=Europe/Madrid:20230617T120000
DTSTAMP:20260420T020040
CREATED:20240614T112334Z
LAST-MODIFIED:20251121T194126Z
UID:10024295-1663414200-1687003200@aguactiva.es
SUMMARY:Natación MARIA DE HUERVA sábado 11.30h
DESCRIPTION:Natación escolar en la Piscina Ángel Santamaría – C.N. EUROPA. \nTodos los sábados a las 11.30h. CALENDARIO 28 SESIONES \nSolo para alumnos del municipio de María de Huerva. \n 
URL:https://aguactiva.es/evento/natacion-maria-de-huerva-sabado-11-30h-2/
CATEGORIES:Natación escolar Maria de Huerva
END:VEVENT
BEGIN:VEVENT
DTSTART;TZID=Europe/Madrid:20220917T110000
DTEND;TZID=Europe/Madrid:20230617T113000
DTSTAMP:20260420T020040
CREATED:20240614T112525Z
LAST-MODIFIED:20251121T194044Z
UID:10024294-1663412400-1687001400@aguactiva.es
SUMMARY:Natación MARIA DE HUERVA sábado 11.00h
DESCRIPTION:Natación escolar en la Piscina Ángel Santamaría – C.N. EUROPA. \nTodos los sábados a las 11.00h. CALENDARIO 28 SESIONES \nSolo para alumnos del municipio de María de Huerva. \n  \n 
URL:https://aguactiva.es/evento/natacion-maria-de-huerva-sabado-11-00h-2/
CATEGORIES:Natación escolar Maria de Huerva
END:VEVENT
BEGIN:VEVENT
DTSTART;TZID=Europe/Madrid:20220917T103000
DTEND;TZID=Europe/Madrid:20230617T110000
DTSTAMP:20260420T020040
CREATED:20240614T112641Z
LAST-MODIFIED:20251125T214828Z
UID:10024293-1663410600-1686999600@aguactiva.es
SUMMARY:Natación MARIA DE HUERVA sábado 10.30h
DESCRIPTION:Natación escolar en la Piscina Ángel Santamaría – C.N. EUROPA. \nTodos los sábados a las 10.30h. CALENDARIO 28 SESIONES \nSolo para alumnos del municipio de María de Huerva. \n 
URL:https://aguactiva.es/evento/natacion-maria-de-huerva-sabado-10-30h-2/
CATEGORIES:Natación escolar Maria de Huerva
END:VEVENT
BEGIN:VEVENT
DTSTART;TZID=Europe/Madrid:20220917T100000
DTEND;TZID=Europe/Madrid:20230617T103000
DTSTAMP:20260420T020040
CREATED:20240614T114130Z
LAST-MODIFIED:20251125T213954Z
UID:10012400-1663408800-1686997800@aguactiva.es
SUMMARY:Natación MARIA DE HUERVA sábado 10.00h
DESCRIPTION:Natación escolar en la Piscina Ángel Santamaría – C.N. EUROPA. \nTodos los sábados a las 10.00h. CALENDARIO 28 SESIONES \nSolo para alumnos del municipio de María de Huerva. \n  \n 
URL:https://aguactiva.es/evento/natacion-escolar-maria-de-huerva-sabado-10-00h-2/
CATEGORIES:Natación escolar Maria de Huerva
END:VEVENT
BEGIN:VEVENT
DTSTART;TZID=Europe/Madrid:20220916T190000
DTEND;TZID=Europe/Madrid:20230616T193000
DTSTAMP:20260420T020040
CREATED:20240614T105121Z
LAST-MODIFIED:20251121T192819Z
UID:10024301-1663354800-1686943800@aguactiva.es
SUMMARY:Natación MARIA DE HUERVA viernes 19.00h
DESCRIPTION:Natación escolar en la Piscina Ángel Santamaría – C.N. EUROPA. \nTodos los viernes a las 19.00h. CALENDARIO 28 SESIONES \nSolo para alumnos del municipio de María de Huerva. \n 
URL:https://aguactiva.es/evento/natacion-maria-de-huerva-viernes-19-00h-2/
CATEGORIES:Natación escolar Maria de Huerva,Natación Maria de Huerva
END:VEVENT
BEGIN:VEVENT
DTSTART;TZID=Europe/Madrid:20220916T183000
DTEND;TZID=Europe/Madrid:20230616T190000
DTSTAMP:20260420T020040
CREATED:20240614T111135Z
LAST-MODIFIED:20251121T192742Z
UID:10024298-1663353000-1686942000@aguactiva.es
SUMMARY:Natación MARIA DE HUERVA viernes 18.30h
DESCRIPTION:Natación escolar en la Piscina Ángel Santamaría – C.N. EUROPA. \nTodos los viernes a las 18.30h. CALENDARIO 28 SESIONES \nSolo para alumnos del municipio de María de Huerva. \n 
URL:https://aguactiva.es/evento/natacion-maria-de-huerva-viernes-18-30h-2/
CATEGORIES:Natación escolar Maria de Huerva,Natación Maria de Huerva
END:VEVENT
BEGIN:VEVENT
DTSTART;TZID=Europe/Madrid:20220916T180000
DTEND;TZID=Europe/Madrid:20230616T183000
DTSTAMP:20260420T020040
CREATED:20240614T110652Z
LAST-MODIFIED:20251121T192704Z
UID:10024299-1663351200-1686940200@aguactiva.es
SUMMARY:Natación MARIA DE HUERVA viernes 18.00h
DESCRIPTION:Natación escolar en la Piscina Ángel Santamaría – C.N. EUROPA. \nTodos los viernes a las 18.00h. CALENDARIO 28 SESIONES \nSolo para alumnos del municipio de María de Huerva. \n 
URL:https://aguactiva.es/evento/natacion-maria-de-huerva-viernes-18-00h-2/
CATEGORIES:Natación escolar Maria de Huerva,Natación Maria de Huerva
END:VEVENT
BEGIN:VEVENT
DTSTART;TZID=Europe/Madrid:20220916T173000
DTEND;TZID=Europe/Madrid:20230616T180000
DTSTAMP:20260420T020040
CREATED:20240614T111737Z
LAST-MODIFIED:20251121T201811Z
UID:10024297-1663349400-1686938400@aguactiva.es
SUMMARY:Natación MARIA DE HUERVA viernes 17.30h
DESCRIPTION:Natación escolar en la Piscina Ángel Santamaría – C.N. EUROPA. \nTodos los viernes a las 17.30h. CALENDARIO 28 SESIONES \nSolo para alumnos del municipio de María de Huerva. \n  \n 
URL:https://aguactiva.es/evento/natacion-maria-de-huerva-viernes-17-30h-2/
CATEGORIES:Natación escolar Maria de Huerva,Natación Maria de Huerva
END:VEVENT
BEGIN:VEVENT
DTSTART;TZID=Europe/Madrid:20220916T170000
DTEND;TZID=Europe/Madrid:20230616T173000
DTSTAMP:20260420T020040
CREATED:20240614T105901Z
LAST-MODIFIED:20251121T192614Z
UID:10024300-1663347600-1686936600@aguactiva.es
SUMMARY:Natación MARIA DE HUERVA viernes 17.00h
DESCRIPTION:Natación escolar en la Piscina Ángel Santamaría – C.N. EUROPA. \nTodos los viernes a las 17.00h. CALENDARIO 28 SESIONES \nSolo para alumnos del municipio de María de Huerva. \n  \n 
URL:https://aguactiva.es/evento/natacion-maria-de-huerva-viernes-17-00h-2/
CATEGORIES:Natación escolar Maria de Huerva,Natación Maria de Huerva
END:VEVENT
END:VCALENDAR