BEGIN:VCALENDAR
VERSION:2.0
PRODID:-//AGUACTIVA - ECPv6.5.1.4//NONSGML v1.0//EN
CALSCALE:GREGORIAN
METHOD:PUBLISH
X-WR-CALNAME:AGUACTIVA
X-ORIGINAL-URL:https://aguactiva.es
X-WR-CALDESC:Eventos para AGUACTIVA
REFRESH-INTERVAL;VALUE=DURATION:PT1H
X-Robots-Tag:noindex
X-PUBLISHED-TTL:PT1H
BEGIN:VTIMEZONE
TZID:Europe/Madrid
BEGIN:DAYLIGHT
TZOFFSETFROM:+0100
TZOFFSETTO:+0200
TZNAME:CEST
DTSTART:20200329T010000
END:DAYLIGHT
BEGIN:STANDARD
TZOFFSETFROM:+0200
TZOFFSETTO:+0100
TZNAME:CET
DTSTART:20201025T010000
END:STANDARD
BEGIN:DAYLIGHT
TZOFFSETFROM:+0100
TZOFFSETTO:+0200
TZNAME:CEST
DTSTART:20210328T010000
END:DAYLIGHT
BEGIN:STANDARD
TZOFFSETFROM:+0200
TZOFFSETTO:+0100
TZNAME:CET
DTSTART:20211031T010000
END:STANDARD
BEGIN:DAYLIGHT
TZOFFSETFROM:+0100
TZOFFSETTO:+0200
TZNAME:CEST
DTSTART:20220327T010000
END:DAYLIGHT
BEGIN:STANDARD
TZOFFSETFROM:+0200
TZOFFSETTO:+0100
TZNAME:CET
DTSTART:20221030T010000
END:STANDARD
BEGIN:DAYLIGHT
TZOFFSETFROM:+0100
TZOFFSETTO:+0200
TZNAME:CEST
DTSTART:20230326T010000
END:DAYLIGHT
BEGIN:STANDARD
TZOFFSETFROM:+0200
TZOFFSETTO:+0100
TZNAME:CET
DTSTART:20231029T010000
END:STANDARD
BEGIN:DAYLIGHT
TZOFFSETFROM:+0100
TZOFFSETTO:+0200
TZNAME:CEST
DTSTART:20240331T010000
END:DAYLIGHT
BEGIN:STANDARD
TZOFFSETFROM:+0200
TZOFFSETTO:+0100
TZNAME:CET
DTSTART:20241027T010000
END:STANDARD
BEGIN:DAYLIGHT
TZOFFSETFROM:+0100
TZOFFSETTO:+0200
TZNAME:CEST
DTSTART:20250330T010000
END:DAYLIGHT
BEGIN:STANDARD
TZOFFSETFROM:+0200
TZOFFSETTO:+0100
TZNAME:CET
DTSTART:20251026T010000
END:STANDARD
BEGIN:DAYLIGHT
TZOFFSETFROM:+0100
TZOFFSETTO:+0200
TZNAME:CEST
DTSTART:20260329T010000
END:DAYLIGHT
BEGIN:STANDARD
TZOFFSETFROM:+0200
TZOFFSETTO:+0100
TZNAME:CET
DTSTART:20261025T010000
END:STANDARD
END:VTIMEZONE
BEGIN:VEVENT
DTSTART;TZID=Europe/Madrid:20200106T093000
DTEND;TZID=Europe/Madrid:20261231T101500
DTSTAMP:20260420T003400
CREATED:20240409T133908Z
LAST-MODIFIED:20250828T074132Z
UID:10023243-1578303000-1798712100@aguactiva.es
SUMMARY:Clases miércoles y viernes 9:30h hidrospinning Liceo Europa
DESCRIPTION:Hidrospinning en el Liceo Europa. \nTodos los miércoles y viernes\, de 9.30 a 10.15.
URL:https://aguactiva.es/evento/clases-miercoles-y-viernes-930h-hidrospinning-liceo-europa-2/
CATEGORIES:Hidrospinning,Hidrospinning Liceo
ATTACH;FMTTYPE=image/jpeg:https://aguactiva.es/wp-content/uploads/2018/10/hidrospinning-clases-zaragoza.jpg
END:VEVENT
BEGIN:VEVENT
DTSTART;TZID=Europe/Madrid:20200106T154500
DTEND;TZID=Europe/Madrid:20260731T153000
DTSTAMP:20260420T003400
CREATED:20240614T104035Z
LAST-MODIFIED:20250828T073905Z
UID:10012880-1578325500-1785511800@aguactiva.es
SUMMARY:Clases lunes y miércoles 15:45h hidrospinning Liceo Europa
DESCRIPTION:Hidrospinning en el Liceo Europa. \nTodos los lunes y miércoles\, de 15.45 a 16.30.
URL:https://aguactiva.es/evento/clases-lunes-y-miercoles-1545h-hidrospinning-liceo-europa-2/
CATEGORIES:Hidrospinning,Hidrospinning Liceo
ATTACH;FMTTYPE=image/jpeg:https://aguactiva.es/wp-content/uploads/2018/10/hidrospinning-clases-zaragoza.jpg
END:VEVENT
BEGIN:VEVENT
DTSTART;TZID=Europe/Madrid:20200106T193000
DTEND;TZID=Europe/Madrid:20260731T201500
DTSTAMP:20260420T003400
CREATED:20240614T104136Z
LAST-MODIFIED:20250828T073837Z
UID:10012879-1578339000-1785528900@aguactiva.es
SUMMARY:Clases lunes y miércoles 19:30h hidrospinning Liceo Europa
DESCRIPTION:Hidrospinning en el Liceo Europa. \nTodos los lunes y miércoles\, de 19.30 a 20.15.
URL:https://aguactiva.es/evento/clases-lunes-y-miercoles-1930h-hidrospinning-liceo-europa-2/
CATEGORIES:Hidrospinning,Hidrospinning Liceo
ATTACH;FMTTYPE=image/jpeg:https://aguactiva.es/wp-content/uploads/2018/10/hidrospinning-clases-zaragoza.jpg
END:VEVENT
BEGIN:VEVENT
DTSTART;TZID=Europe/Madrid:20200107T193000
DTEND;TZID=Europe/Madrid:20260903T191500
DTSTAMP:20260420T003400
CREATED:20240614T104236Z
LAST-MODIFIED:20250828T073221Z
UID:10012877-1578425400-1788462900@aguactiva.es
SUMMARY:Clases martes y jueves 19:30h hidrospinning Liceo Europa
DESCRIPTION:Hidrospinning en el Liceo Europa. \nTodos los martes y jueves\, de 19.30 a 20.15.
URL:https://aguactiva.es/evento/clases-martes-y-jueves-1930h-hidrospinning-liceo-europa-2/
CATEGORIES:Hidrospinning,Hidrospinning Liceo
ATTACH;FMTTYPE=image/jpeg:https://aguactiva.es/wp-content/uploads/2018/10/hidrospinning-clases-zaragoza.jpg
END:VEVENT
BEGIN:VEVENT
DTSTART;TZID=Europe/Madrid:20200703T154500
DTEND;TZID=Europe/Madrid:20260930T183000
DTSTAMP:20260420T003400
CREATED:20240614T103919Z
LAST-MODIFIED:20250828T073948Z
UID:10017906-1593791100-1790793000@aguactiva.es
SUMMARY:Clases viernes 15:45h hidrospinning Liceo Europa
DESCRIPTION:Hidrospinning en el Liceo Europa. \nTodos los viernes\, de 15.45 a 16.30.
URL:https://aguactiva.es/evento/clases-viernes-1545h-hidrospinning-liceo-europa-2/
CATEGORIES:Hidrospinning Liceo
ATTACH;FMTTYPE=image/jpeg:https://aguactiva.es/wp-content/uploads/2018/10/hidrospinning-clases-zaragoza.jpg
END:VEVENT
BEGIN:VEVENT
DTSTART;TZID=Europe/Madrid:20220830T070000
DTEND;TZID=Europe/Madrid:20260831T074500
DTSTAMP:20260420T003400
CREATED:20240614T103438Z
LAST-MODIFIED:20250828T074031Z
UID:10024244-1661842800-1788162300@aguactiva.es
SUMMARY:Clases martes y jueves 7:00h hidrospinning Liceo Europa
DESCRIPTION:Hidrospinning en el Liceo Europa. \nTodos los martes y jueves\, de 7.00 a 7.45.
URL:https://aguactiva.es/evento/clases-martes-y-jueves-700h-hidrospinning-liceo-europa-2/
CATEGORIES:Hidrospinning,Hidrospinning Liceo
ATTACH;FMTTYPE=image/jpeg:https://aguactiva.es/wp-content/uploads/2018/10/hidrospinning-clases-zaragoza.jpg
END:VEVENT
END:VCALENDAR